Workbook

Sheet Strona 1
B2: 1 | D2: Egzemplarz dla nadawcy
D3: Copy for sender, Exemplar fur den Absender
D4: 1 | E4: Nadawca (nazwisko lub nazwa, adres, kraj) | M4: MIEDZYNARODOWY SAMOCHODOWY LIST PRZEWOZOWY
E5: Sender (name, address, country) | M5: INTERNATIONAL CONSIGNEMENT NOTE
S6: №
M8: Niniejszy przewóz podlega postanowianiom | R8: This carriage is subject, notwithstanding any
M9: konwencji o umowie miedzynarodowej prze- | R9: clause to the contrary, to the Convention on
M10: wozu drogowego towarów (CMR) bez wzglę- | R10: the Contract for the international Carriage of
M11: du na jakąkolwiek przeciwną klauzulę. | R11: goods by road (CMR)
D12: 2 | E12: Odbiorca (nazwisko lub nazwa, adres, kraj) | L12: 16 | M12: Przewoźnik (nazwisko lub nazwa, adres, kraj)
E13: Consignee (name, address, country) | M13: Carrier (name, address, country)
B17: Rubryki obwiedzione tłustymi liniami wypełnia przewoźnik. | C17: The spaces framed with heavy lines must filied in by the carrier.
D18: 3 | E18: Miejsce przeznaczenia (miejscowość, kraj) | L18: 17 | M18: Kolejni przewoźnicy (nazwisko lub nazwa, adres, kraj)
E19: Place of delivery of the goods (place, country) | M19: Succesive carriers (name, address, country)
D22: 4 | E22: Miejsce i data załadowania (miejscowość, kraj, data) | L22: 18 | M22: Zastrzeżenia i uwagi przewoźnika | W22: *In case of dangerous goods mention, besides the possible certification, on the last line of the column the particulars of the class, the UN number and the packing group, if needed. | X22: *W przypadku przewozu towarów niebezpiecznych, oprócz ewentualnego posiadania zaświadczenia, należy podać w ostatnim wierszu: klasę, liczbę oraz w danym przypadku literę.
E23: Place and date of taking over the goods (place, country, date) | M23: Carrier's reservations and observations
D26: 5 | E26: Załączam dokumanty
E27: Documents attached
D30: 6 | E30: Cechy i numery | F30: 7 | G30: Ilość sztuk | I30: 8 | J30: Sposób opakowania | K30: 9 | L30: Rodzaj towaru | N30: 10 | O30: Nr statystyczny | Q30: 11 | R30: Waga brutto w kg | T30: 12 | U30: Objętość w m3
E31: Marks and Nos | G31: Number of pakages | J31: Method of packing | L31: Nature of the goods | O31: Statistical number | R31: Gross weight in kg | U31: Volume in m3
B34: 19+21+22
B38: włącznie oraz | C38: including and
B42: 1-15
B44: Do wypełnienia pod odpowiedzialnością nadawcy | C44: To be completed on sender's responsability
D45: Klasa | F45: Nr UN | I45: GP | K45: (ADR*)
D46: Class | F46: Number | I46: PG
D47: 13 | E47: Instrukcje nadawcy | L47: 19 | M47: Postanowienia specjalne
E48: Sender's instructions | M48: Special agreements
L53: 20 | M53: Do zapłacenia | N53: Nadawca | Q53: Waluta | T53: Odbiorca
M54: To be paid by | N54: Sender | Q54: Curency | T54: Consignee
L55: Przewoźne
L56: Carriage
L57: Bonifikaty
L58: Deductions
L59: Saldo
L60: Balance
D61: 14 | E61: Postanowienia odnośnie przewoźnego | L61: Dopłaty
E62: Instruction as to payement carriage | L62: Supplem, charges
E63: Przewoźne zapłacone/Carriage paid | L63: Koszty dodatkowe
L64: Miscellaneous +
E65: Przewoźne nieopłacone/Carrage forward | L65: Razem
L66: Total to be paid
D67: 21 | E67: Wystawiono w | H67: dnia | L67: 15 | M67: Zapłata/Cash on delivery
E68: Established in | H68: on
D70: 22 | I70: 23 | O70: 24 | P70: Przesyłkę otrzymano
P71: Goods received
P72: Miejscowość | S72: dnia
P73: Place | S73: on
E75: Podpis i stempel nadawcy | J75: Podpis i stempel przewoźnika | P75: Podpis i stempel odbiorcy
E76: Signeture and stamp of the sender | J76: Signature and stamp of the carrier | P76: Signature and stamp of the consignee
D77: Wzór CMR/IRU/Polska z 1976 dla międzynarodowych przewozów drogowych odpowiada ustaleniom, które zostały dokonane przez Międzynarodową Unię Transportu Drogowego/IRU/.

Sheet Strona 2
B2: 2 | D2: Egzemplarz dla odbiorcy
D3: Copy for consignee, Exemplar fur den Empfanger
D4: 1 | E4: Nadawca (nazwisko lub nazwa, adres, kraj) | M4: MIEDZYNARODOWY SAMOCHODOWY LIST PRZEWOZOWY
E5: Sender (name, address, country) | M5: INTERNATIONAL CONSIGNEMENT NOTE
D6: =IF('Strona 1'!D6="","",'Strona 1'!D6) | S6: № | T6: =IF('Strona 1'!$T$6="","",'Strona 1'!$T$6)
D8: =IF('Strona 1'!D8="","",'Strona 1'!D8) | M8: Niniejszy przewóz podlega postanowianiom | R8: This carriage is subject, notwithstanding any
M9: konwencji o umowie miedzynarodowej prze- | R9: clause to the contrary, to the Convention on
D10: =IF('Strona 1'!D10="","",'Strona 1'!D10) | M10: wozu drogowego towarów (CMR) bez wzglę- | R10: the Contract for the international Carriage of
M11: du na jakąkolwiek przeciwną klauzulę. | R11: goods by road (CMR)
D12: 2 | E12: Odbiorca (nazwisko lub nazwa, adres, kraj) | L12: 16 | M12: Przewoźnik (nazwisko lub nazwa, adres, kraj)
E13: Consignee (name, address, country) | M13: Carrier (name, address, country)
D14: =IF('Strona 1'!D14="","",'Strona 1'!D14) | L14: =IF('Strona 1'!L14="","",'Strona 1'!L14)
D15: =IF('Strona 1'!D15="","",'Strona 1'!D15) | L15: =IF('Strona 1'!L15="","",'Strona 1'!L15)
D16: =IF('Strona 1'!D16="","",'Strona 1'!D16) | L16: =IF('Strona 1'!L16="","",'Strona 1'!L16)
B17: Rubryki obwiedzione tłustymi liniami wypełnia przewoźnik. | C17: The spaces framed with heavy lines must filied in by the carrier. | D17: =IF('Strona 1'!D17="","",'Strona 1'!D17) | L17: =IF('Strona 1'!L17="","",'Strona 1'!L17)
D18: 3 | E18: Miejsce przeznaczenia (miejscowość, kraj) | L18: 17 | M18: Kolejni przewoźnicy (nazwisko lub nazwa, adres, kraj)
E19: Place of delivery of the goods (place, country) | M19: Succesive carriers (name, address, country)
D20: =IF('Strona 1'!D20="","",'Strona 1'!D20) | L20: =IF('Strona 1'!L20="","",'Strona 1'!L20)
D21: =IF('Strona 1'!D21="","",'Strona 1'!D21) | L21: =IF('Strona 1'!L21="","",'Strona 1'!L21)
D22: 4 | E22: Miejsce i data załadowania (miejscowość, kraj, data) | L22: 18 | M22: Zastrzeżenia i uwagi przewoźnika | W22: *In case of dangerous goods mention, besides the possible certification, on the last line of the column the particulars of the class, the UN number and the packing group, if needed. | X22: *W przypadku przewozu towarów niebezpiecznych, oprócz ewentualnego posiadania zaświadczenia, należy podać w ostatnim wierszu: klasę, liczbę oraz w danym przypadku literę.
E23: Place and date of taking over the goods (place, country, date) | M23: Carrier's reservations and observations
D24: =IF('Strona 1'!D24="","",'Strona 1'!D24) | L24: =IF('Strona 1'!L24="","",'Strona 1'!L24)
D25: =IF('Strona 1'!D25="","",'Strona 1'!D25) | L25: =IF('Strona 1'!L25="","",'Strona 1'!L25)
D26: 5 | E26: Załączam dokumanty | L26: =IF('Strona 1'!$L$26="","",'Strona 1'!$L$26)
E27: Documents attached
D28: =IF('Strona 1'!D28="","",'Strona 1'!D28) | L28: =IF('Strona 1'!L28="","",'Strona 1'!L28)
D29: =IF('Strona 1'!D29="","",'Strona 1'!D29) | L29: =IF('Strona 1'!L29="","",'Strona 1'!L29)
D30: 6 | E30: Cechy i numery | F30: 7 | G30: Ilość sztuk | I30: 8 | J30: Sposób opakowania | K30: 9 | L30: Rodzaj towaru | N30: 10 | O30: Nr statystyczny | Q30: 11 | R30: Waga brutto w kg | T30: 12 | U30: Objętość w m3
E31: Marks and Nos | G31: Number of pakages | J31: Method of packing | L31: Nature of the goods | O31: Statistical number | R31: Gross weight in kg | U31: Volume in m3
D32: =IF('Strona 1'!D32="","",'Strona 1'!D32) | F32: =IF('Strona 1'!F32="","",'Strona 1'!F32) | I32: =IF('Strona 1'!I32="","",'Strona 1'!I32) | K32: =IF('Strona 1'!K32="","",'Strona 1'!K32) | N32: =IF('Strona 1'!N32="","",'Strona 1'!N32) | Q32: =IF('Strona 1'!Q32="","",'Strona 1'!Q32) | T32: =IF('Strona 1'!T32="","",'Strona 1'!T32)
D33: =IF('Strona 1'!D33="","",'Strona 1'!D33) | F33: =IF('Strona 1'!F33="","",'Strona 1'!F33) | I33: =IF('Strona 1'!I33="","",'Strona 1'!I33) | K33: =IF('Strona 1'!K33="","",'Strona 1'!K33) | N33: =IF('Strona 1'!N33="","",'Strona 1'!N33) | Q33: =IF('Strona 1'!Q33="","",'Strona 1'!Q33) | T33: =IF('Strona 1'!T33="","",'Strona 1'!T33)
B34: 19+21+22 | D34: =IF('Strona 1'!D34="","",'Strona 1'!D34) | F34: =IF('Strona 1'!F34="","",'Strona 1'!F34) | I34: =IF('Strona 1'!I34="","",'Strona 1'!I34) | K34: =IF('Strona 1'!K34="","",'Strona 1'!K34) | N34: =IF('Strona 1'!N34="","",'Strona 1'!N34) | Q34: =IF('Strona 1'!Q34="","",'Strona 1'!Q34) | T34: =IF('Strona 1'!T34="","",'Strona 1'!T34)
D35: =IF('Strona 1'!D35="","",'Strona 1'!D35) | F35: =IF('Strona 1'!F35="","",'Strona 1'!F35) | I35: =IF('Strona 1'!I35="","",'Strona 1'!I35) | K35: =IF('Strona 1'!K35="","",'Strona 1'!K35) | N35: =IF('Strona 1'!N35="","",'Strona 1'!N35) | Q35: =IF('Strona 1'!Q35="","",'Strona 1'!Q35) | T35: =IF('Strona 1'!T35="","",'Strona 1'!T35)
D36: =IF('Strona 1'!D36="","",'Strona 1'!D36) | F36: =IF('Strona 1'!F36="","",'Strona 1'!F36) | I36: =IF('Strona 1'!I36="","",'Strona 1'!I36) | K36: =IF('Strona 1'!K36="","",'Strona 1'!K36) | N36: =IF('Strona 1'!N36="","",'Strona 1'!N36) | Q36: =IF('Strona 1'!Q36="","",'Strona 1'!Q36) | T36: =IF('Strona 1'!T36="","",'Strona 1'!T36)
D37: =IF('Strona 1'!D37="","",'Strona 1'!D37) | F37: =IF('Strona 1'!F37="","",'Strona 1'!F37) | I37: =IF('Strona 1'!I37="","",'Strona 1'!I37) | K37: =IF('Strona 1'!K37="","",'Strona 1'!K37) | N37: =IF('Strona 1'!N37="","",'Strona 1'!N37) | Q37: =IF('Strona 1'!Q37="","",'Strona 1'!Q37) | T37: =IF('Strona 1'!T37="","",'Strona 1'!T37)
B38: włącznie oraz | C38: including and | D38: =IF('Strona 1'!D38="","",'Strona 1'!D38) | F38: =IF('Strona 1'!F38="","",'Strona 1'!F38) | I38: =IF('Strona 1'!I38="","",'Strona 1'!I38) | K38: =IF('Strona 1'!K38="","",'Strona 1'!K38) | N38: =IF('Strona 1'!N38="","",'Strona 1'!N38) | Q38: =IF('Strona 1'!Q38="","",'Strona 1'!Q38) | T38: =IF('Strona 1'!T38="","",'Strona 1'!T38)
D39: =IF('Strona 1'!D39="","",'Strona 1'!D39) | F39: =IF('Strona 1'!F39="","",'Strona 1'!F39) | I39: =IF('Strona 1'!I39="","",'Strona 1'!I39) | K39: =IF('Strona 1'!K39="","",'Strona 1'!K39) | N39: =IF('Strona 1'!N39="","",'Strona 1'!N39) | Q39: =IF('Strona 1'!Q39="","",'Strona 1'!Q39) | T39: =IF('Strona 1'!T39="","",'Strona 1'!T39)
D40: =IF('Strona 1'!D40="","",'Strona 1'!D40) | F40: =IF('Strona 1'!F40="","",'Strona 1'!F40) | I40: =IF('Strona 1'!I40="","",'Strona 1'!I40) | K40: =IF('Strona 1'!K40="","",'Strona 1'!K40) | N40: =IF('Strona 1'!N40="","",'Strona 1'!N40) | Q40: =IF('Strona 1'!Q40="","",'Strona 1'!Q40) | T40: =IF('Strona 1'!T40="","",'Strona 1'!T40)
D41: =IF('Strona 1'!D41="","",'Strona 1'!D41) | F41: =IF('Strona 1'!F41="","",'Strona 1'!F41) | I41: =IF('Strona 1'!I41="","",'Strona 1'!I41) | K41: =IF('Strona 1'!K41="","",'Strona 1'!K41) | N41: =IF('Strona 1'!N41="","",'Strona 1'!N41) | Q41: =IF('Strona 1'!Q41="","",'Strona 1'!Q41) | T41: =IF('Strona 1'!T41="","",'Strona 1'!T41)
B42: 1-15 | D42: =IF('Strona 1'!D42="","",'Strona 1'!D42) | F42: =IF('Strona 1'!F42="","",'Strona 1'!F42) | I42: =IF('Strona 1'!I42="","",'Strona 1'!I42) | K42: =IF('Strona 1'!K42="","",'Strona 1'!K42) | N42: =IF('Strona 1'!N42="","",'Strona 1'!N42) | Q42: =IF('Strona 1'!Q42="","",'Strona 1'!Q42) | T42: =IF('Strona 1'!T42="","",'Strona 1'!T42)
D43: =IF('Strona 1'!D43="","",'Strona 1'!D43) | F43: =IF('Strona 1'!F43="","",'Strona 1'!F43) | I43: =IF('Strona 1'!I43="","",'Strona 1'!I43) | K43: =IF('Strona 1'!K43="","",'Strona 1'!K43) | N43: =IF('Strona 1'!N43="","",'Strona 1'!N43) | Q43: =IF('Strona 1'!Q43="","",'Strona 1'!Q43) | T43: =IF('Strona 1'!T43="","",'Strona 1'!T43)
B44: Do wypełnienia pod odpowiedzialnością nadawcy | C44: To be completed on sender's responsability | D44: =IF('Strona 1'!D44="","",'Strona 1'!D44) | F44: =IF('Strona 1'!F44="","",'Strona 1'!F44) | I44: =IF('Strona 1'!I44="","",'Strona 1'!I44) | K44: =IF('Strona 1'!K44="","",'Strona 1'!K44) | N44: =IF('Strona 1'!N44="","",'Strona 1'!N44) | Q44: =IF('Strona 1'!Q44="","",'Strona 1'!Q44) | T44: =IF('Strona 1'!T44="","",'Strona 1'!T44)
D45: Klasa | E45: =IF('Strona 1'!$E$45="","",'Strona 1'!$E$45) | F45: Nr UN | H45: =IF('Strona 1'!$H$45="","",'Strona 1'!$H$45) | I45: GP | J45: =IF('Strona 1'!$J$45="","",'Strona 1'!$J$45) | K45: (ADR*) | M45: =IF('Strona 1'!$M$45="","",'Strona 1'!$M$45) | N45: =IF('Strona 1'!N45="","",'Strona 1'!N45) | Q45: =IF('Strona 1'!Q45="","",'Strona 1'!Q45) | T45: =IF('Strona 1'!T45="","",'Strona 1'!T45)
D46: Class | F46: Number | I46: PG
D47: 13 | E47: Instrukcje nadawcy | L47: 19 | M47: Postanowienia specjalne
E48: Sender's instructions | M48: Special agreements
D49: =IF('Strona 1'!D49="","",'Strona 1'!D49) | L49: =IF('Strona 1'!L49="","",'Strona 1'!L49)
D50: =IF('Strona 1'!D50="","",'Strona 1'!D50) | L50: =IF('Strona 1'!L50="","",'Strona 1'!L50)
D51: =IF('Strona 1'!D51="","",'Strona 1'!D51) | L51: =IF('Strona 1'!L51="","",'Strona 1'!L51)
D52: =IF('Strona 1'!D52="","",'Strona 1'!D52) | L52: =IF('Strona 1'!L52="","",'Strona 1'!L52)
D53: =IF('Strona 1'!D53="","",'Strona 1'!D53) | L53: 20 | M53: Do zapłacenia | N53: Nadawca | Q53: Waluta | T53: Odbiorca
M54: To be paid by | N54: Sender | Q54: Curency | T54: Consignee
D55: =IF('Strona 1'!D55="","",'Strona 1'!D55) | L55: Przewoźne | N55: =IF('Strona 1'!N55="","",'Strona 1'!N55) | Q55: =IF('Strona 1'!Q55="","",'Strona 1'!Q55) | S55: =IF('Strona 1'!S55="","",'Strona 1'!S55) | T55: =IF('Strona 1'!T55="","",'Strona 1'!T55)
L56: Carriage
D57: =IF('Strona 1'!D57="","",'Strona 1'!D57) | L57: Bonifikaty | N57: =IF('Strona 1'!N57="","",'Strona 1'!N57) | Q57: =IF('Strona 1'!Q57="","",'Strona 1'!Q57) | S57: =IF('Strona 1'!S57="","",'Strona 1'!S57) | T57: =IF('Strona 1'!T57="","",'Strona 1'!T57)
L58: Deductions
D59: =IF('Strona 1'!D59="","",'Strona 1'!D59) | L59: Saldo | N59: =IF('Strona 1'!N59="","",'Strona 1'!N59) | Q59: =IF('Strona 1'!Q59="","",'Strona 1'!Q59) | S59: =IF('Strona 1'!S59="","",'Strona 1'!S59) | T59: =IF('Strona 1'!T59="","",'Strona 1'!T59)
L60: Balance
D61: 14 | E61: Postanowienia odnośnie przewoźnego | L61: Dopłaty | N61: =IF('Strona 1'!N61="","",'Strona 1'!N61) | Q61: =IF('Strona 1'!Q61="","",'Strona 1'!Q61) | S61: =IF('Strona 1'!S61="","",'Strona 1'!S61) | T61: =IF('Strona 1'!T61="","",'Strona 1'!T61)
E62: Instruction as to payement carriage | L62: Supplem, charges
E63: Przewoźne zapłacone/Carriage paid | H63: =IF('Strona 1'!H63="","",'Strona 1'!H63) | L63: Koszty dodatkowe | N63: =IF('Strona 1'!N63="","",'Strona 1'!N63) | Q63: =IF('Strona 1'!Q63="","",'Strona 1'!Q63) | S63: =IF('Strona 1'!S63="","",'Strona 1'!S63) | T63: =IF('Strona 1'!T63="","",'Strona 1'!T63)
L64: Miscellaneous +
E65: Przewoźne nieopłacone/Carrage forward | H65: =IF('Strona 1'!H65="","",'Strona 1'!H65) | L65: Razem | N65: =IF('Strona 1'!N65="","",'Strona 1'!N65) | Q65: =IF('Strona 1'!Q65="","",'Strona 1'!Q65) | S65: =IF('Strona 1'!S65="","",'Strona 1'!S65) | T65: =IF('Strona 1'!T65="","",'Strona 1'!T65)
L66: Total to be paid
D67: 21 | E67: Wystawiono w | H67: dnia | L67: 15 | M67: Zapłata/Cash on delivery | Q67: =IF('Strona 1'!$Q$67="","",'Strona 1'!$Q$67)
E68: Established in | H68: on
E69: =IF('Strona 1'!E69="","",'Strona 1'!E69) | H69: =IF('Strona 1'!H69="","",'Strona 1'!H69) | L69: =IF('Strona 1'!$L$69="","",'Strona 1'!$L$69)
D70: 22 | I70: 23 | O70: 24 | P70: Przesyłkę otrzymano
P71: Goods received
P72: Miejscowość | S72: dnia
P73: Place | S73: on
E75: Podpis i stempel nadawcy | J75: Podpis i stempel przewoźnika | P75: Podpis i stempel odbiorcy
E76: Signeture and stamp of the sender | J76: Signature and stamp of the carrier | P76: Signature and stamp of the consignee
D77: Wzór CMR/IRU/Polska z 1976 dla międzynarodowych przewozów drogowych odpowiada ustaleniom, które zostały dokonane przez Międzynarodową Unię Transportu Drogowego/IRU/.

Sheet Strona 3
B2: 3 | D2: Egzemplarz dla przewoźnika
D3: Copy for carrier, Copy fur den Frachtfuhrer
D4: 1 | E4: Nadawca (nazwisko lub nazwa, adres, kraj) | M4: MIEDZYNARODOWY SAMOCHODOWY LIST PRZEWOZOWY
E5: Sender (name, address, country) | M5: INTERNATIONAL CONSIGNEMENT NOTE
D6: =IF('Strona 1'!D6="","",'Strona 1'!D6) | S6: № | T6: =IF('Strona 1'!$T$6="","",'Strona 1'!$T$6)
D8: =IF('Strona 1'!D8="","",'Strona 1'!D8) | M8: Niniejszy przewóz podlega postanowianiom | R8: This carriage is subject, notwithstanding any
M9: konwencji o umowie miedzynarodowej prze- | R9: clause to the contrary, to the Convention on
D10: =IF('Strona 1'!D10="","",'Strona 1'!D10) | M10: wozu drogowego towarów (CMR) bez wzglę- | R10: the Contract for the international Carriage of
M11: du na jakąkolwiek przeciwną klauzulę. | R11: goods by road (CMR)
D12: 2 | E12: Odbiorca (nazwisko lub nazwa, adres, kraj) | L12: 16 | M12: Przewoźnik (nazwisko lub nazwa, adres, kraj)
E13: Consignee (name, address, country) | M13: Carrier (name, address, country)
D14: =IF('Strona 1'!D14="","",'Strona 1'!D14) | L14: =IF('Strona 1'!L14="","",'Strona 1'!L14)
D15: =IF('Strona 1'!D15="","",'Strona 1'!D15) | L15: =IF('Strona 1'!L15="","",'Strona 1'!L15)
D16: =IF('Strona 1'!D16="","",'Strona 1'!D16) | L16: =IF('Strona 1'!L16="","",'Strona 1'!L16)
B17: Rubryki obwiedzione tłustymi liniami wypełnia przewoźnik. | C17: The spaces framed with heavy lines must filied in by the carrier. | D17: =IF('Strona 1'!D17="","",'Strona 1'!D17) | L17: =IF('Strona 1'!L17="","",'Strona 1'!L17)
D18: 3 | E18: Miejsce przeznaczenia (miejscowość, kraj) | L18: 17 | M18: Kolejni przewoźnicy (nazwisko lub nazwa, adres, kraj)
E19: Place of delivery of the goods (place, country) | M19: Succesive carriers (name, address, country)
D20: =IF('Strona 1'!D20="","",'Strona 1'!D20) | L20: =IF('Strona 1'!L20="","",'Strona 1'!L20)
D21: =IF('Strona 1'!D21="","",'Strona 1'!D21) | L21: =IF('Strona 1'!L21="","",'Strona 1'!L21)
D22: 4 | E22: Miejsce i data załadowania (miejscowość, kraj, data) | L22: 18 | M22: Zastrzeżenia i uwagi przewoźnika | W22: *In case of dangerous goods mention, besides the possible certification, on the last line of the column the particulars of the class, the UN number and the packing group, if needed. | X22: *W przypadku przewozu towarów niebezpiecznych, oprócz ewentualnego posiadania zaświadczenia, należy podać w ostatnim wierszu: klasę, liczbę oraz w danym przypadku literę.
E23: Place and date of taking over the goods (place, country, date) | M23: Carrier's reservations and observations
D24: =IF('Strona 1'!D24="","",'Strona 1'!D24) | L24: =IF('Strona 1'!L24="","",'Strona 1'!L24)
D25: =IF('Strona 1'!D25="","",'Strona 1'!D25) | L25: =IF('Strona 1'!L25="","",'Strona 1'!L25)
D26: 5 | E26: Załączam dokumanty | L26: =IF('Strona 1'!$L$26="","",'Strona 1'!$L$26)
E27: Documents attached
D28: =IF('Strona 1'!D28="","",'Strona 1'!D28) | L28: =IF('Strona 1'!L28="","",'Strona 1'!L28)
D29: =IF('Strona 1'!D29="","",'Strona 1'!D29) | L29: =IF('Strona 1'!L29="","",'Strona 1'!L29)
D30: 6 | E30: Cechy i numery | F30: 7 | G30: Ilość sztuk | I30: 8 | J30: Sposób opakowania | K30: 9 | L30: Rodzaj towaru | N30: 10 | O30: Nr statystyczny | Q30: 11 | R30: Waga brutto w kg | T30: 12 | U30: Objętość w m3
E31: Marks and Nos | G31: Number of pakages | J31: Method of packing | L31: Nature of the goods | O31: Statistical number | R31: Gross weight in kg | U31: Volume in m3
D32: =IF('Strona 1'!D32="","",'Strona 1'!D32) | F32: =IF('Strona 1'!F32="","",'Strona 1'!F32) | I32: =IF('Strona 1'!I32="","",'Strona 1'!I32) | K32: =IF('Strona 1'!K32="","",'Strona 1'!K32) | N32: =IF('Strona 1'!N32="","",'Strona 1'!N32) | Q32: =IF('Strona 1'!Q32="","",'Strona 1'!Q32) | T32: =IF('Strona 1'!T32="","",'Strona 1'!T32)
D33: =IF('Strona 1'!D33="","",'Strona 1'!D33) | F33: =IF('Strona 1'!F33="","",'Strona 1'!F33) | I33: =IF('Strona 1'!I33="","",'Strona 1'!I33) | K33: =IF('Strona 1'!K33="","",'Strona 1'!K33) | N33: =IF('Strona 1'!N33="","",'Strona 1'!N33) | Q33: =IF('Strona 1'!Q33="","",'Strona 1'!Q33) | T33: =IF('Strona 1'!T33="","",'Strona 1'!T33)
B34: 19+21+22 | D34: =IF('Strona 1'!D34="","",'Strona 1'!D34) | F34: =IF('Strona 1'!F34="","",'Strona 1'!F34) | I34: =IF('Strona 1'!I34="","",'Strona 1'!I34) | K34: =IF('Strona 1'!K34="","",'Strona 1'!K34) | N34: =IF('Strona 1'!N34="","",'Strona 1'!N34) | Q34: =IF('Strona 1'!Q34="","",'Strona 1'!Q34) | T34: =IF('Strona 1'!T34="","",'Strona 1'!T34)
D35: =IF('Strona 1'!D35="","",'Strona 1'!D35) | F35: =IF('Strona 1'!F35="","",'Strona 1'!F35) | I35: =IF('Strona 1'!I35="","",'Strona 1'!I35) | K35: =IF('Strona 1'!K35="","",'Strona 1'!K35) | N35: =IF('Strona 1'!N35="","",'Strona 1'!N35) | Q35: =IF('Strona 1'!Q35="","",'Strona 1'!Q35) | T35: =IF('Strona 1'!T35="","",'Strona 1'!T35)
D36: =IF('Strona 1'!D36="","",'Strona 1'!D36) | F36: =IF('Strona 1'!F36="","",'Strona 1'!F36) | I36: =IF('Strona 1'!I36="","",'Strona 1'!I36) | K36: =IF('Strona 1'!K36="","",'Strona 1'!K36) | N36: =IF('Strona 1'!N36="","",'Strona 1'!N36) | Q36: =IF('Strona 1'!Q36="","",'Strona 1'!Q36) | T36: =IF('Strona 1'!T36="","",'Strona 1'!T36)
D37: =IF('Strona 1'!D37="","",'Strona 1'!D37) | F37: =IF('Strona 1'!F37="","",'Strona 1'!F37) | I37: =IF('Strona 1'!I37="","",'Strona 1'!I37) | K37: =IF('Strona 1'!K37="","",'Strona 1'!K37) | N37: =IF('Strona 1'!N37="","",'Strona 1'!N37) | Q37: =IF('Strona 1'!Q37="","",'Strona 1'!Q37) | T37: =IF('Strona 1'!T37="","",'Strona 1'!T37)
B38: włącznie oraz | C38: including and | D38: =IF('Strona 1'!D38="","",'Strona 1'!D38) | F38: =IF('Strona 1'!F38="","",'Strona 1'!F38) | I38: =IF('Strona 1'!I38="","",'Strona 1'!I38) | K38: =IF('Strona 1'!K38="","",'Strona 1'!K38) | N38: =IF('Strona 1'!N38="","",'Strona 1'!N38) | Q38: =IF('Strona 1'!Q38="","",'Strona 1'!Q38) | T38: =IF('Strona 1'!T38="","",'Strona 1'!T38)
D39: =IF('Strona 1'!D39="","",'Strona 1'!D39) | F39: =IF('Strona 1'!F39="","",'Strona 1'!F39) | I39: =IF('Strona 1'!I39="","",'Strona 1'!I39) | K39: =IF('Strona 1'!K39="","",'Strona 1'!K39) | N39: =IF('Strona 1'!N39="","",'Strona 1'!N39) | Q39: =IF('Strona 1'!Q39="","",'Strona 1'!Q39) | T39: =IF('Strona 1'!T39="","",'Strona 1'!T39)
D40: =IF('Strona 1'!D40="","",'Strona 1'!D40) | F40: =IF('Strona 1'!F40="","",'Strona 1'!F40) | I40: =IF('Strona 1'!I40="","",'Strona 1'!I40) | K40: =IF('Strona 1'!K40="","",'Strona 1'!K40) | N40: =IF('Strona 1'!N40="","",'Strona 1'!N40) | Q40: =IF('Strona 1'!Q40="","",'Strona 1'!Q40) | T40: =IF('Strona 1'!T40="","",'Strona 1'!T40)
D41: =IF('Strona 1'!D41="","",'Strona 1'!D41) | F41: =IF('Strona 1'!F41="","",'Strona 1'!F41) | I41: =IF('Strona 1'!I41="","",'Strona 1'!I41) | K41: =IF('Strona 1'!K41="","",'Strona 1'!K41) | N41: =IF('Strona 1'!N41="","",'Strona 1'!N41) | Q41: =IF('Strona 1'!Q41="","",'Strona 1'!Q41) | T41: =IF('Strona 1'!T41="","",'Strona 1'!T41)
B42: 1-15 | D42: =IF('Strona 1'!D42="","",'Strona 1'!D42) | F42: =IF('Strona 1'!F42="","",'Strona 1'!F42) | I42: =IF('Strona 1'!I42="","",'Strona 1'!I42) | K42: =IF('Strona 1'!K42="","",'Strona 1'!K42) | N42: =IF('Strona 1'!N42="","",'Strona 1'!N42) | Q42: =IF('Strona 1'!Q42="","",'Strona 1'!Q42) | T42: =IF('Strona 1'!T42="","",'Strona 1'!T42)
D43: =IF('Strona 1'!D43="","",'Strona 1'!D43) | F43: =IF('Strona 1'!F43="","",'Strona 1'!F43) | I43: =IF('Strona 1'!I43="","",'Strona 1'!I43) | K43: =IF('Strona 1'!K43="","",'Strona 1'!K43) | N43: =IF('Strona 1'!N43="","",'Strona 1'!N43) | Q43: =IF('Strona 1'!Q43="","",'Strona 1'!Q43) | T43: =IF('Strona 1'!T43="","",'Strona 1'!T43)
B44: Do wypełnienia pod odpowiedzialnością nadawcy | C44: To be completed on sender's responsability | D44: =IF('Strona 1'!D44="","",'Strona 1'!D44) | F44: =IF('Strona 1'!F44="","",'Strona 1'!F44) | I44: =IF('Strona 1'!I44="","",'Strona 1'!I44) | K44: =IF('Strona 1'!K44="","",'Strona 1'!K44) | N44: =IF('Strona 1'!N44="","",'Strona 1'!N44) | Q44: =IF('Strona 1'!Q44="","",'Strona 1'!Q44) | T44: =IF('Strona 1'!T44="","",'Strona 1'!T44)
D45: Klasa | E45: =IF('Strona 1'!$E$45="","",'Strona 1'!$E$45) | F45: Nr UN | H45: =IF('Strona 1'!$H$45="","",'Strona 1'!$H$45) | I45: GP | J45: =IF('Strona 1'!$J$45="","",'Strona 1'!$J$45) | K45: (ADR*) | M45: =IF('Strona 1'!$M$45="","",'Strona 1'!$M$45) | N45: =IF('Strona 1'!N45="","",'Strona 1'!N45) | Q45: =IF('Strona 1'!Q45="","",'Strona 1'!Q45) | T45: =IF('Strona 1'!T45="","",'Strona 1'!T45)
D46: Class | F46: Number | I46: PG
D47: 13 | E47: Instrukcje nadawcy | L47: 19 | M47: Postanowienia specjalne
E48: Sender's instructions | M48: Special agreements
D49: =IF('Strona 1'!D49="","",'Strona 1'!D49) | L49: =IF('Strona 1'!L49="","",'Strona 1'!L49)
D50: =IF('Strona 1'!D50="","",'Strona 1'!D50) | L50: =IF('Strona 1'!L50="","",'Strona 1'!L50)
D51: =IF('Strona 1'!D51="","",'Strona 1'!D51) | L51: =IF('Strona 1'!L51="","",'Strona 1'!L51)
D52: =IF('Strona 1'!D52="","",'Strona 1'!D52) | L52: =IF('Strona 1'!L52="","",'Strona 1'!L52)
D53: =IF('Strona 1'!D53="","",'Strona 1'!D53) | L53: 20 | M53: Do zapłacenia | N53: Nadawca | Q53: Waluta | T53: Odbiorca
M54: To be paid by | N54: Sender | Q54: Curency | T54: Consignee
D55: =IF('Strona 1'!D55="","",'Strona 1'!D55) | L55: Przewoźne | N55: =IF('Strona 1'!N55="","",'Strona 1'!N55) | Q55: =IF('Strona 1'!Q55="","",'Strona 1'!Q55) | S55: =IF('Strona 1'!S55="","",'Strona 1'!S55) | T55: =IF('Strona 1'!T55="","",'Strona 1'!T55)
L56: Carriage
D57: =IF('Strona 1'!D57="","",'Strona 1'!D57) | L57: Bonifikaty | N57: =IF('Strona 1'!N57="","",'Strona 1'!N57) | Q57: =IF('Strona 1'!Q57="","",'Strona 1'!Q57) | S57: =IF('Strona 1'!S57="","",'Strona 1'!S57) | T57: =IF('Strona 1'!T57="","",'Strona 1'!T57)
L58: Deductions
D59: =IF('Strona 1'!D59="","",'Strona 1'!D59) | L59: Saldo | N59: =IF('Strona 1'!N59="","",'Strona 1'!N59) | Q59: =IF('Strona 1'!Q59="","",'Strona 1'!Q59) | S59: =IF('Strona 1'!S59="","",'Strona 1'!S59) | T59: =IF('Strona 1'!T59="","",'Strona 1'!T59)
L60: Balance
D61: 14 | E61: Postanowienia odnośnie przewoźnego | L61: Dopłaty | N61: =IF('Strona 1'!N61="","",'Strona 1'!N61) | Q61: =IF('Strona 1'!Q61="","",'Strona 1'!Q61) | S61: =IF('Strona 1'!S61="","",'Strona 1'!S61) | T61: =IF('Strona 1'!T61="","",'Strona 1'!T61)
E62: Instruction as to payement carriage | L62: Supplem, charges
E63: Przewoźne zapłacone/Carriage paid | H63: =IF('Strona 1'!H63="","",'Strona 1'!H63) | L63: Koszty dodatkowe | N63: =IF('Strona 1'!N63="","",'Strona 1'!N63) | Q63: =IF('Strona 1'!Q63="","",'Strona 1'!Q63) | S63: =IF('Strona 1'!S63="","",'Strona 1'!S63) | T63: =IF('Strona 1'!T63="","",'Strona 1'!T63)
L64: Miscellaneous +
E65: Przewoźne nieopłacone/Carrage forward | H65: =IF('Strona 1'!H65="","",'Strona 1'!H65) | L65: Razem | N65: =IF('Strona 1'!N65="","",'Strona 1'!N65) | Q65: =IF('Strona 1'!Q65="","",'Strona 1'!Q65) | S65: =IF('Strona 1'!S65="","",'Strona 1'!S65) | T65: =IF('Strona 1'!T65="","",'Strona 1'!T65)
L66: Total to be paid
D67: 21 | E67: Wystawiono w | H67: dnia | L67: 15 | M67: Zapłata/Cash on delivery | Q67: =IF('Strona 1'!$Q$67="","",'Strona 1'!$Q$67)
E68: Established in | H68: on
E69: =IF('Strona 1'!E69="","",'Strona 1'!E69) | H69: =IF('Strona 1'!H69="","",'Strona 1'!H69) | L69: =IF('Strona 1'!$L$69="","",'Strona 1'!$L$69)
D70: 22 | I70: 23 | O70: 24 | P70: Przesyłkę otrzymano
P71: Goods received
P72: Miejscowość | S72: dnia
P73: Place | S73: on
E75: Podpis i stempel nadawcy | J75: Podpis i stempel przewoźnika | P75: Podpis i stempel odbiorcy
E76: Signeture and stamp of the sender | J76: Signature and stamp of the carrier | P76: Signature and stamp of the consignee
D77: Wzór CMR/IRU/Polska z 1976 dla międzynarodowych przewozów drogowych odpowiada ustaleniom, które zostały dokonane przez Międzynarodową Unię Transportu Drogowego/IRU/.

Sheet Strona 4
D4: 1 | E4: Nadawca (nazwisko lub nazwa, adres, kraj) | M4: MIEDZYNARODOWY SAMOCHODOWY LIST PRZEWOZOWY
E5: Sender (name, address, country) | M5: INTERNATIONAL CONSIGNEMENT NOTE
D6: =IF('Strona 1'!D6="","",'Strona 1'!D6) | S6: № | T6: =IF('Strona 1'!$T$6="","",'Strona 1'!$T$6)
D8: =IF('Strona 1'!D8="","",'Strona 1'!D8) | M8: Niniejszy przewóz podlega postanowianiom | R8: This carriage is subject, notwithstanding any
M9: konwencji o umowie miedzynarodowej prze- | R9: clause to the contrary, to the Convention on
D10: =IF('Strona 1'!D10="","",'Strona 1'!D10) | M10: wozu drogowego towarów (CMR) bez wzglę- | R10: the Contract for the international Carriage of
M11: du na jakąkolwiek przeciwną klauzulę. | R11: goods by road (CMR)
D12: 2 | E12: Odbiorca (nazwisko lub nazwa, adres, kraj) | L12: 16 | M12: Przewoźnik (nazwisko lub nazwa, adres, kraj)
E13: Consignee (name, address, country) | M13: Carrier (name, address, country)
D14: =IF('Strona 1'!D14="","",'Strona 1'!D14) | L14: =IF('Strona 1'!L14="","",'Strona 1'!L14)
D15: =IF('Strona 1'!D15="","",'Strona 1'!D15) | L15: =IF('Strona 1'!L15="","",'Strona 1'!L15)
D16: =IF('Strona 1'!D16="","",'Strona 1'!D16) | L16: =IF('Strona 1'!L16="","",'Strona 1'!L16)
B17: Rubryki obwiedzione tłustymi liniami wypełnia przewoźnik. | C17: The spaces framed with heavy lines must filied in by the carrier. | D17: =IF('Strona 1'!D17="","",'Strona 1'!D17) | L17: =IF('Strona 1'!L17="","",'Strona 1'!L17)
D18: 3 | E18: Miejsce przeznaczenia (miejscowość, kraj) | L18: 17 | M18: Kolejni przewoźnicy (nazwisko lub nazwa, adres, kraj)
E19: Place of delivery of the goods (place, country) | M19: Succesive carriers (name, address, country)
D20: =IF('Strona 1'!D20="","",'Strona 1'!D20) | L20: =IF('Strona 1'!L20="","",'Strona 1'!L20)
D21: =IF('Strona 1'!D21="","",'Strona 1'!D21) | L21: =IF('Strona 1'!L21="","",'Strona 1'!L21)
D22: 4 | E22: Miejsce i data załadowania (miejscowość, kraj, data) | L22: 18 | M22: Zastrzeżenia i uwagi przewoźnika | W22: *In case of dangerous goods mention, besides the possible certification, on the last line of the column the particulars of the class, the UN number and the packing group, if needed. | X22: *W przypadku przewozu towarów niebezpiecznych, oprócz ewentualnego posiadania zaświadczenia, należy podać w ostatnim wierszu: klasę, liczbę oraz w danym przypadku literę.
E23: Place and date of taking over the goods (place, country, date) | M23: Carrier's reservations and observations
D24: =IF('Strona 1'!D24="","",'Strona 1'!D24) | L24: =IF('Strona 1'!L24="","",'Strona 1'!L24)
D25: =IF('Strona 1'!D25="","",'Strona 1'!D25) | L25: =IF('Strona 1'!L25="","",'Strona 1'!L25)
D26: 5 | E26: Załączam dokumanty | L26: =IF('Strona 1'!$L$26="","",'Strona 1'!$L$26)
E27: Documents attached
D28: =IF('Strona 1'!D28="","",'Strona 1'!D28) | L28: =IF('Strona 1'!L28="","",'Strona 1'!L28)
D29: =IF('Strona 1'!D29="","",'Strona 1'!D29) | L29: =IF('Strona 1'!L29="","",'Strona 1'!L29)
D30: 6 | E30: Cechy i numery | F30: 7 | G30: Ilość sztuk | I30: 8 | J30: Sposób opakowania | K30: 9 | L30: Rodzaj towaru | N30: 10 | O30: Nr statystyczny | Q30: 11 | R30: Waga brutto w kg | T30: 12 | U30: Objętość w m3
E31: Marks and Nos | G31: Number of pakages | J31: Method of packing | L31: Nature of the goods | O31: Statistical number | R31: Gross weight in kg | U31: Volume in m3
D32: =IF('Strona 1'!D32="","",'Strona 1'!D32) | F32: =IF('Strona 1'!F32="","",'Strona 1'!F32) | I32: =IF('Strona 1'!I32="","",'Strona 1'!I32) | K32: =IF('Strona 1'!K32="","",'Strona 1'!K32) | N32: =IF('Strona 1'!N32="","",'Strona 1'!N32) | Q32: =IF('Strona 1'!Q32="","",'Strona 1'!Q32) | T32: =IF('Strona 1'!T32="","",'Strona 1'!T32)
D33: =IF('Strona 1'!D33="","",'Strona 1'!D33) | F33: =IF('Strona 1'!F33="","",'Strona 1'!F33) | I33: =IF('Strona 1'!I33="","",'Strona 1'!I33) | K33: =IF('Strona 1'!K33="","",'Strona 1'!K33) | N33: =IF('Strona 1'!N33="","",'Strona 1'!N33) | Q33: =IF('Strona 1'!Q33="","",'Strona 1'!Q33) | T33: =IF('Strona 1'!T33="","",'Strona 1'!T33)
B34: 19+21+22 | D34: =IF('Strona 1'!D34="","",'Strona 1'!D34) | F34: =IF('Strona 1'!F34="","",'Strona 1'!F34) | I34: =IF('Strona 1'!I34="","",'Strona 1'!I34) | K34: =IF('Strona 1'!K34="","",'Strona 1'!K34) | N34: =IF('Strona 1'!N34="","",'Strona 1'!N34) | Q34: =IF('Strona 1'!Q34="","",'Strona 1'!Q34) | T34: =IF('Strona 1'!T34="","",'Strona 1'!T34)
D35: =IF('Strona 1'!D35="","",'Strona 1'!D35) | F35: =IF('Strona 1'!F35="","",'Strona 1'!F35) | I35: =IF('Strona 1'!I35="","",'Strona 1'!I35) | K35: =IF('Strona 1'!K35="","",'Strona 1'!K35) | N35: =IF('Strona 1'!N35="","",'Strona 1'!N35) | Q35: =IF('Strona 1'!Q35="","",'Strona 1'!Q35) | T35: =IF('Strona 1'!T35="","",'Strona 1'!T35)
D36: =IF('Strona 1'!D36="","",'Strona 1'!D36) | F36: =IF('Strona 1'!F36="","",'Strona 1'!F36) | I36: =IF('Strona 1'!I36="","",'Strona 1'!I36) | K36: =IF('Strona 1'!K36="","",'Strona 1'!K36) | N36: =IF('Strona 1'!N36="","",'Strona 1'!N36) | Q36: =IF('Strona 1'!Q36="","",'Strona 1'!Q36) | T36: =IF('Strona 1'!T36="","",'Strona 1'!T36)
D37: =IF('Strona 1'!D37="","",'Strona 1'!D37) | F37: =IF('Strona 1'!F37="","",'Strona 1'!F37) | I37: =IF('Strona 1'!I37="","",'Strona 1'!I37) | K37: =IF('Strona 1'!K37="","",'Strona 1'!K37) | N37: =IF('Strona 1'!N37="","",'Strona 1'!N37) | Q37: =IF('Strona 1'!Q37="","",'Strona 1'!Q37) | T37: =IF('Strona 1'!T37="","",'Strona 1'!T37)
B38: włącznie oraz | C38: including and | D38: =IF('Strona 1'!D38="","",'Strona 1'!D38) | F38: =IF('Strona 1'!F38="","",'Strona 1'!F38) | I38: =IF('Strona 1'!I38="","",'Strona 1'!I38) | K38: =IF('Strona 1'!K38="","",'Strona 1'!K38) | N38: =IF('Strona 1'!N38="","",'Strona 1'!N38) | Q38: =IF('Strona 1'!Q38="","",'Strona 1'!Q38) | T38: =IF('Strona 1'!T38="","",'Strona 1'!T38)
D39: =IF('Strona 1'!D39="","",'Strona 1'!D39) | F39: =IF('Strona 1'!F39="","",'Strona 1'!F39) | I39: =IF('Strona 1'!I39="","",'Strona 1'!I39) | K39: =IF('Strona 1'!K39="","",'Strona 1'!K39) | N39: =IF('Strona 1'!N39="","",'Strona 1'!N39) | Q39: =IF('Strona 1'!Q39="","",'Strona 1'!Q39) | T39: =IF('Strona 1'!T39="","",'Strona 1'!T39)
D40: =IF('Strona 1'!D40="","",'Strona 1'!D40) | F40: =IF('Strona 1'!F40="","",'Strona 1'!F40) | I40: =IF('Strona 1'!I40="","",'Strona 1'!I40) | K40: =IF('Strona 1'!K40="","",'Strona 1'!K40) | N40: =IF('Strona 1'!N40="","",'Strona 1'!N40) | Q40: =IF('Strona 1'!Q40="","",'Strona 1'!Q40) | T40: =IF('Strona 1'!T40="","",'Strona 1'!T40)
D41: =IF('Strona 1'!D41="","",'Strona 1'!D41) | F41: =IF('Strona 1'!F41="","",'Strona 1'!F41) | I41: =IF('Strona 1'!I41="","",'Strona 1'!I41) | K41: =IF('Strona 1'!K41="","",'Strona 1'!K41) | N41: =IF('Strona 1'!N41="","",'Strona 1'!N41) | Q41: =IF('Strona 1'!Q41="","",'Strona 1'!Q41) | T41: =IF('Strona 1'!T41="","",'Strona 1'!T41)
B42: 1-15 | D42: =IF('Strona 1'!D42="","",'Strona 1'!D42) | F42: =IF('Strona 1'!F42="","",'Strona 1'!F42) | I42: =IF('Strona 1'!I42="","",'Strona 1'!I42) | K42: =IF('Strona 1'!K42="","",'Strona 1'!K42) | N42: =IF('Strona 1'!N42="","",'Strona 1'!N42) | Q42: =IF('Strona 1'!Q42="","",'Strona 1'!Q42) | T42: =IF('Strona 1'!T42="","",'Strona 1'!T42)
D43: =IF('Strona 1'!D43="","",'Strona 1'!D43) | F43: =IF('Strona 1'!F43="","",'Strona 1'!F43) | I43: =IF('Strona 1'!I43="","",'Strona 1'!I43) | K43: =IF('Strona 1'!K43="","",'Strona 1'!K43) | N43: =IF('Strona 1'!N43="","",'Strona 1'!N43) | Q43: =IF('Strona 1'!Q43="","",'Strona 1'!Q43) | T43: =IF('Strona 1'!T43="","",'Strona 1'!T43)
B44: Do wypełnienia pod odpowiedzialnością nadawcy | C44: To be completed on sender's responsability | D44: =IF('Strona 1'!D44="","",'Strona 1'!D44) | F44: =IF('Strona 1'!F44="","",'Strona 1'!F44) | I44: =IF('Strona 1'!I44="","",'Strona 1'!I44) | K44: =IF('Strona 1'!K44="","",'Strona 1'!K44) | N44: =IF('Strona 1'!N44="","",'Strona 1'!N44) | Q44: =IF('Strona 1'!Q44="","",'Strona 1'!Q44) | T44: =IF('Strona 1'!T44="","",'Strona 1'!T44)
D45: Klasa | E45: =IF('Strona 1'!$E$45="","",'Strona 1'!$E$45) | F45: Nr UN | H45: =IF('Strona 1'!$H$45="","",'Strona 1'!$H$45) | I45: GP | J45: =IF('Strona 1'!$J$45="","",'Strona 1'!$J$45) | K45: (ADR*) | M45: =IF('Strona 1'!$M$45="","",'Strona 1'!$M$45) | N45: =IF('Strona 1'!N45="","",'Strona 1'!N45) | Q45: =IF('Strona 1'!Q45="","",'Strona 1'!Q45) | T45: =IF('Strona 1'!T45="","",'Strona 1'!T45)
D46: Class | F46: Number | I46: PG
D47: 13 | E47: Instrukcje nadawcy | L47: 19 | M47: Postanowienia specjalne
E48: Sender's instructions | M48: Special agreements
D49: =IF('Strona 1'!D49="","",'Strona 1'!D49) | L49: =IF('Strona 1'!L49="","",'Strona 1'!L49)
D50: =IF('Strona 1'!D50="","",'Strona 1'!D50) | L50: =IF('Strona 1'!L50="","",'Strona 1'!L50)
D51: =IF('Strona 1'!D51="","",'Strona 1'!D51) | L51: =IF('Strona 1'!L51="","",'Strona 1'!L51)
D52: =IF('Strona 1'!D52="","",'Strona 1'!D52) | L52: =IF('Strona 1'!L52="","",'Strona 1'!L52)
D53: =IF('Strona 1'!D53="","",'Strona 1'!D53) | L53: 20 | M53: Do zapłacenia | N53: Nadawca | Q53: Waluta | T53: Odbiorca
M54: To be paid by | N54: Sender | Q54: Curency | T54: Consignee
D55: =IF('Strona 1'!D55="","",'Strona 1'!D55) | L55: Przewoźne | N55: =IF('Strona 1'!N55="","",'Strona 1'!N55) | Q55: =IF('Strona 1'!Q55="","",'Strona 1'!Q55) | S55: =IF('Strona 1'!S55="","",'Strona 1'!S55) | T55: =IF('Strona 1'!T55="","",'Strona 1'!T55)
L56: Carriage
D57: =IF('Strona 1'!D57="","",'Strona 1'!D57) | L57: Bonifikaty | N57: =IF('Strona 1'!N57="","",'Strona 1'!N57) | Q57: =IF('Strona 1'!Q57="","",'Strona 1'!Q57) | S57: =IF('Strona 1'!S57="","",'Strona 1'!S57) | T57: =IF('Strona 1'!T57="","",'Strona 1'!T57)
L58: Deductions
D59: =IF('Strona 1'!D59="","",'Strona 1'!D59) | L59: Saldo | N59: =IF('Strona 1'!N59="","",'Strona 1'!N59) | Q59: =IF('Strona 1'!Q59="","",'Strona 1'!Q59) | S59: =IF('Strona 1'!S59="","",'Strona 1'!S59) | T59: =IF('Strona 1'!T59="","",'Strona 1'!T59)
L60: Balance
D61: 14 | E61: Postanowienia odnośnie przewoźnego | L61: Dopłaty | N61: =IF('Strona 1'!N61="","",'Strona 1'!N61) | Q61: =IF('Strona 1'!Q61="","",'Strona 1'!Q61) | S61: =IF('Strona 1'!S61="","",'Strona 1'!S61) | T61: =IF('Strona 1'!T61="","",'Strona 1'!T61)
E62: Instruction as to payement carriage | L62: Supplem, charges
E63: Przewoźne zapłacone/Carriage paid | H63: =IF('Strona 1'!H63="","",'Strona 1'!H63) | L63: Koszty dodatkowe | N63: =IF('Strona 1'!N63="","",'Strona 1'!N63) | Q63: =IF('Strona 1'!Q63="","",'Strona 1'!Q63) | S63: =IF('Strona 1'!S63="","",'Strona 1'!S63) | T63: =IF('Strona 1'!T63="","",'Strona 1'!T63)
L64: Miscellaneous +
E65: Przewoźne nieopłacone/Carrage forward | H65: =IF('Strona 1'!H65="","",'Strona 1'!H65) | L65: Razem | N65: =IF('Strona 1'!N65="","",'Strona 1'!N65) | Q65: =IF('Strona 1'!Q65="","",'Strona 1'!Q65) | S65: =IF('Strona 1'!S65="","",'Strona 1'!S65) | T65: =IF('Strona 1'!T65="","",'Strona 1'!T65)
L66: Total to be paid
D67: 21 | E67: Wystawiono w | H67: dnia | L67: 15 | M67: Zapłata/Cash on delivery | Q67: =IF('Strona 1'!$Q$67="","",'Strona 1'!$Q$67)
E68: Established in | H68: on
E69: =IF('Strona 1'!E69="","",'Strona 1'!E69) | H69: =IF('Strona 1'!H69="","",'Strona 1'!H69) | L69: =IF('Strona 1'!$L$69="","",'Strona 1'!$L$69)
D70: 22 | I70: 23 | O70: 24 | P70: Przesyłkę otrzymano
P71: Goods received
P72: Miejscowość | S72: dnia
P73: Place | S73: on
E75: Podpis i stempel nadawcy | J75: Podpis i stempel przewoźnika | P75: Podpis i stempel odbiorcy
E76: Signeture and stamp of the sender | J76: Signature and stamp of the carrier | P76: Signature and stamp of the consignee
D77: Wzór CMR/IRU/Polska z 1976 dla międzynarodowych przewozów drogowych odpowiada ustaleniom, które zostały dokonane przez Międzynarodową Unię Transportu Drogowego/IRU/.

Sheet Strona 5
D4: 1 | E4: Nadawca (nazwisko lub nazwa, adres, kraj) | M4: MIEDZYNARODOWY SAMOCHODOWY LIST PRZEWOZOWY
E5: Sender (name, address, country) | M5: INTERNATIONAL CONSIGNEMENT NOTE
D6: =IF('Strona 1'!D6="","",'Strona 1'!D6) | S6: № | T6: =IF('Strona 1'!$T$6="","",'Strona 1'!$T$6)
D8: =IF('Strona 1'!D8="","",'Strona 1'!D8) | M8: Niniejszy przewóz podlega postanowianiom | R8: This carriage is subject, notwithstanding any
M9: konwencji o umowie miedzynarodowej prze- | R9: clause to the contrary, to the Convention on
D10: =IF('Strona 1'!D10="","",'Strona 1'!D10) | M10: wozu drogowego towarów (CMR) bez wzglę- | R10: the Contract for the international Carriage of
M11: du na jakąkolwiek przeciwną klauzulę. | R11: goods by road (CMR)
D12: 2 | E12: Odbiorca (nazwisko lub nazwa, adres, kraj) | L12: 16 | M12: Przewoźnik (nazwisko lub nazwa, adres, kraj)
E13: Consignee (name, address, country) | M13: Carrier (name, address, country)
D14: =IF('Strona 1'!D14="","",'Strona 1'!D14) | L14: =IF('Strona 1'!L14="","",'Strona 1'!L14)
D15: =IF('Strona 1'!D15="","",'Strona 1'!D15) | L15: =IF('Strona 1'!L15="","",'Strona 1'!L15)
D16: =IF('Strona 1'!D16="","",'Strona 1'!D16) | L16: =IF('Strona 1'!L16="","",'Strona 1'!L16)
B17: Rubryki obwiedzione tłustymi liniami wypełnia przewoźnik. | C17: The spaces framed with heavy lines must filied in by the carrier. | D17: =IF('Strona 1'!D17="","",'Strona 1'!D17) | L17: =IF('Strona 1'!L17="","",'Strona 1'!L17)
D18: 3 | E18: Miejsce przeznaczenia (miejscowość, kraj) | L18: 17 | M18: Kolejni przewoźnicy (nazwisko lub nazwa, adres, kraj)
E19: Place of delivery of the goods (place, country) | M19: Succesive carriers (name, address, country)
D20: =IF('Strona 1'!D20="","",'Strona 1'!D20) | L20: =IF('Strona 1'!L20="","",'Strona 1'!L20)
D21: =IF('Strona 1'!D21="","",'Strona 1'!D21) | L21: =IF('Strona 1'!L21="","",'Strona 1'!L21)
D22: 4 | E22: Miejsce i data załadowania (miejscowość, kraj, data) | L22: 18 | M22: Zastrzeżenia i uwagi przewoźnika | W22: *In case of dangerous goods mention, besides the possible certification, on the last line of the column the particulars of the class, the UN number and the packing group, if needed. | X22: *W przypadku przewozu towarów niebezpiecznych, oprócz ewentualnego posiadania zaświadczenia, należy podać w ostatnim wierszu: klasę, liczbę oraz w danym przypadku literę.
E23: Place and date of taking over the goods (place, country, date) | M23: Carrier's reservations and observations
D24: =IF('Strona 1'!D24="","",'Strona 1'!D24) | L24: =IF('Strona 1'!L24="","",'Strona 1'!L24)
D25: =IF('Strona 1'!D25="","",'Strona 1'!D25) | L25: =IF('Strona 1'!L25="","",'Strona 1'!L25)
D26: 5 | E26: Załączam dokumanty | L26: =IF('Strona 1'!$L$26="","",'Strona 1'!$L$26)
E27: Documents attached
D28: =IF('Strona 1'!D28="","",'Strona 1'!D28) | L28: =IF('Strona 1'!L28="","",'Strona 1'!L28)
D29: =IF('Strona 1'!D29="","",'Strona 1'!D29) | L29: =IF('Strona 1'!L29="","",'Strona 1'!L29)
D30: 6 | E30: Cechy i numery | F30: 7 | G30: Ilość sztuk | I30: 8 | J30: Sposób opakowania | K30: 9 | L30: Rodzaj towaru | N30: 10 | O30: Nr statystyczny | Q30: 11 | R30: Waga brutto w kg | T30: 12 | U30: Objętość w m3
E31: Marks and Nos | G31: Number of pakages | J31: Method of packing | L31: Nature of the goods | O31: Statistical number | R31: Gross weight in kg | U31: Volume in m3
D32: =IF('Strona 1'!D32="","",'Strona 1'!D32) | F32: =IF('Strona 1'!F32="","",'Strona 1'!F32) | I32: =IF('Strona 1'!I32="","",'Strona 1'!I32) | K32: =IF('Strona 1'!K32="","",'Strona 1'!K32) | N32: =IF('Strona 1'!N32="","",'Strona 1'!N32) | Q32: =IF('Strona 1'!Q32="","",'Strona 1'!Q32) | T32: =IF('Strona 1'!T32="","",'Strona 1'!T32)
D33: =IF('Strona 1'!D33="","",'Strona 1'!D33) | F33: =IF('Strona 1'!F33="","",'Strona 1'!F33) | I33: =IF('Strona 1'!I33="","",'Strona 1'!I33) | K33: =IF('Strona 1'!K33="","",'Strona 1'!K33) | N33: =IF('Strona 1'!N33="","",'Strona 1'!N33) | Q33: =IF('Strona 1'!Q33="","",'Strona 1'!Q33) | T33: =IF('Strona 1'!T33="","",'Strona 1'!T33)
D34: =IF('Strona 1'!D34="","",'Strona 1'!D34) | F34: =IF('Strona 1'!F34="","",'Strona 1'!F34) | I34: =IF('Strona 1'!I34="","",'Strona 1'!I34) | K34: =IF('Strona 1'!K34="","",'Strona 1'!K34) | N34: =IF('Strona 1'!N34="","",'Strona 1'!N34) | Q34: =IF('Strona 1'!Q34="","",'Strona 1'!Q34) | T34: =IF('Strona 1'!T34="","",'Strona 1'!T34)
D35: =IF('Strona 1'!D35="","",'Strona 1'!D35) | F35: =IF('Strona 1'!F35="","",'Strona 1'!F35) | I35: =IF('Strona 1'!I35="","",'Strona 1'!I35) | K35: =IF('Strona 1'!K35="","",'Strona 1'!K35) | N35: =IF('Strona 1'!N35="","",'Strona 1'!N35) | Q35: =IF('Strona 1'!Q35="","",'Strona 1'!Q35) | T35: =IF('Strona 1'!T35="","",'Strona 1'!T35)
D36: =IF('Strona 1'!D36="","",'Strona 1'!D36) | F36: =IF('Strona 1'!F36="","",'Strona 1'!F36) | I36: =IF('Strona 1'!I36="","",'Strona 1'!I36) | K36: =IF('Strona 1'!K36="","",'Strona 1'!K36) | N36: =IF('Strona 1'!N36="","",'Strona 1'!N36) | Q36: =IF('Strona 1'!Q36="","",'Strona 1'!Q36) | T36: =IF('Strona 1'!T36="","",'Strona 1'!T36)
D37: =IF('Strona 1'!D37="","",'Strona 1'!D37) | F37: =IF('Strona 1'!F37="","",'Strona 1'!F37) | I37: =IF('Strona 1'!I37="","",'Strona 1'!I37) | K37: =IF('Strona 1'!K37="","",'Strona 1'!K37) | N37: =IF('Strona 1'!N37="","",'Strona 1'!N37) | Q37: =IF('Strona 1'!Q37="","",'Strona 1'!Q37) | T37: =IF('Strona 1'!T37="","",'Strona 1'!T37)
B38: włącznie oraz | C38: including and | D38: =IF('Strona 1'!D38="","",'Strona 1'!D38) | F38: =IF('Strona 1'!F38="","",'Strona 1'!F38) | I38: =IF('Strona 1'!I38="","",'Strona 1'!I38) | K38: =IF('Strona 1'!K38="","",'Strona 1'!K38) | N38: =IF('Strona 1'!N38="","",'Strona 1'!N38) | Q38: =IF('Strona 1'!Q38="","",'Strona 1'!Q38) | T38: =IF('Strona 1'!T38="","",'Strona 1'!T38)
D39: =IF('Strona 1'!D39="","",'Strona 1'!D39) | F39: =IF('Strona 1'!F39="","",'Strona 1'!F39) | I39: =IF('Strona 1'!I39="","",'Strona 1'!I39) | K39: =IF('Strona 1'!K39="","",'Strona 1'!K39) | N39: =IF('Strona 1'!N39="","",'Strona 1'!N39) | Q39: =IF('Strona 1'!Q39="","",'Strona 1'!Q39) | T39: =IF('Strona 1'!T39="","",'Strona 1'!T39)
D40: =IF('Strona 1'!D40="","",'Strona 1'!D40) | F40: =IF('Strona 1'!F40="","",'Strona 1'!F40) | I40: =IF('Strona 1'!I40="","",'Strona 1'!I40) | K40: =IF('Strona 1'!K40="","",'Strona 1'!K40) | N40: =IF('Strona 1'!N40="","",'Strona 1'!N40) | Q40: =IF('Strona 1'!Q40="","",'Strona 1'!Q40) | T40: =IF('Strona 1'!T40="","",'Strona 1'!T40)
D41: =IF('Strona 1'!D41="","",'Strona 1'!D41) | F41: =IF('Strona 1'!F41="","",'Strona 1'!F41) | I41: =IF('Strona 1'!I41="","",'Strona 1'!I41) | K41: =IF('Strona 1'!K41="","",'Strona 1'!K41) | N41: =IF('Strona 1'!N41="","",'Strona 1'!N41) | Q41: =IF('Strona 1'!Q41="","",'Strona 1'!Q41) | T41: =IF('Strona 1'!T41="","",'Strona 1'!T41)
B42: 1-15 | D42: =IF('Strona 1'!D42="","",'Strona 1'!D42) | F42: =IF('Strona 1'!F42="","",'Strona 1'!F42) | I42: =IF('Strona 1'!I42="","",'Strona 1'!I42) | K42: =IF('Strona 1'!K42="","",'Strona 1'!K42) | N42: =IF('Strona 1'!N42="","",'Strona 1'!N42) | Q42: =IF('Strona 1'!Q42="","",'Strona 1'!Q42) | T42: =IF('Strona 1'!T42="","",'Strona 1'!T42)
D43: =IF('Strona 1'!D43="","",'Strona 1'!D43) | F43: =IF('Strona 1'!F43="","",'Strona 1'!F43) | I43: =IF('Strona 1'!I43="","",'Strona 1'!I43) | K43: =IF('Strona 1'!K43="","",'Strona 1'!K43) | N43: =IF('Strona 1'!N43="","",'Strona 1'!N43) | Q43: =IF('Strona 1'!Q43="","",'Strona 1'!Q43) | T43: =IF('Strona 1'!T43="","",'Strona 1'!T43)
B44: Do wypełnienia pod odpowiedzialnością nadawcy | C44: To be completed on sender's responsability | D44: =IF('Strona 1'!D44="","",'Strona 1'!D44) | F44: =IF('Strona 1'!F44="","",'Strona 1'!F44) | I44: =IF('Strona 1'!I44="","",'Strona 1'!I44) | K44: =IF('Strona 1'!K44="","",'Strona 1'!K44) | N44: =IF('Strona 1'!N44="","",'Strona 1'!N44) | Q44: =IF('Strona 1'!Q44="","",'Strona 1'!Q44) | T44: =IF('Strona 1'!T44="","",'Strona 1'!T44)
D45: Klasa | E45: =IF('Strona 1'!$E$45="","",'Strona 1'!$E$45) | F45: Nr UN | H45: =IF('Strona 1'!$H$45="","",'Strona 1'!$H$45) | I45: GP | J45: =IF('Strona 1'!$J$45="","",'Strona 1'!$J$45) | K45: (ADR*) | M45: =IF('Strona 1'!$M$45="","",'Strona 1'!$M$45) | N45: =IF('Strona 1'!N45="","",'Strona 1'!N45) | Q45: =IF('Strona 1'!Q45="","",'Strona 1'!Q45) | T45: =IF('Strona 1'!T45="","",'Strona 1'!T45)
D46: Class | F46: Number | I46: PG
D47: 13 | E47: Instrukcje nadawcy | L47: 19 | M47: Postanowienia specjalne
E48: Sender's instructions | M48: Special agreements
D49: =IF('Strona 1'!D49="","",'Strona 1'!D49) | L49: =IF('Strona 1'!L49="","",'Strona 1'!L49)
D50: =IF('Strona 1'!D50="","",'Strona 1'!D50) | L50: =IF('Strona 1'!L50="","",'Strona 1'!L50)
D51: =IF('Strona 1'!D51="","",'Strona 1'!D51) | L51: =IF('Strona 1'!L51="","",'Strona 1'!L51)
D52: =IF('Strona 1'!D52="","",'Strona 1'!D52) | L52: =IF('Strona 1'!L52="","",'Strona 1'!L52)
D53: =IF('Strona 1'!D53="","",'Strona 1'!D53) | L53: 20 | M53: Do zapłacenia | N53: Nadawca | Q53: Waluta | T53: Odbiorca
M54: To be paid by | N54: Sender | Q54: Curency | T54: Consignee
D55: =IF('Strona 1'!D55="","",'Strona 1'!D55) | L55: Przewoźne | N55: =IF('Strona 1'!N55="","",'Strona 1'!N55) | Q55: =IF('Strona 1'!Q55="","",'Strona 1'!Q55) | S55: =IF('Strona 1'!S55="","",'Strona 1'!S55) | T55: =IF('Strona 1'!T55="","",'Strona 1'!T55)
L56: Carriage
D57: =IF('Strona 1'!D57="","",'Strona 1'!D57) | L57: Bonifikaty | N57: =IF('Strona 1'!N57="","",'Strona 1'!N57) | Q57: =IF('Strona 1'!Q57="","",'Strona 1'!Q57) | S57: =IF('Strona 1'!S57="","",'Strona 1'!S57) | T57: =IF('Strona 1'!T57="","",'Strona 1'!T57)
L58: Deductions
D59: =IF('Strona 1'!D59="","",'Strona 1'!D59) | L59: Saldo | N59: =IF('Strona 1'!N59="","",'Strona 1'!N59) | Q59: =IF('Strona 1'!Q59="","",'Strona 1'!Q59) | S59: =IF('Strona 1'!S59="","",'Strona 1'!S59) | T59: =IF('Strona 1'!T59="","",'Strona 1'!T59)
L60: Balance
D61: 14 | E61: Postanowienia odnośnie przewoźnego | L61: Dopłaty | N61: =IF('Strona 1'!N61="","",'Strona 1'!N61) | Q61: =IF('Strona 1'!Q61="","",'Strona 1'!Q61) | S61: =IF('Strona 1'!S61="","",'Strona 1'!S61) | T61: =IF('Strona 1'!T61="","",'Strona 1'!T61)
E62: Instruction as to payement carriage | L62: Supplem, charges
E63: Przewoźne zapłacone/Carriage paid | H63: =IF('Strona 1'!H63="","",'Strona 1'!H63) | L63: Koszty dodatkowe | N63: =IF('Strona 1'!N63="","",'Strona 1'!N63) | Q63: =IF('Strona 1'!Q63="","",'Strona 1'!Q63) | S63: =IF('Strona 1'!S63="","",'Strona 1'!S63) | T63: =IF('Strona 1'!T63="","",'Strona 1'!T63)
L64: Miscellaneous +
E65: Przewoźne nieopłacone/Carrage forward | H65: =IF('Strona 1'!H65="","",'Strona 1'!H65) | L65: Razem | N65: =IF('Strona 1'!N65="","",'Strona 1'!N65) | Q65: =IF('Strona 1'!Q65="","",'Strona 1'!Q65) | S65: =IF('Strona 1'!S65="","",'Strona 1'!S65) | T65: =IF('Strona 1'!T65="","",'Strona 1'!T65)
L66: Total to be paid
D67: 21 | E67: Wystawiono w | H67: dnia | L67: 15 | M67: Zapłata/Cash on delivery | Q67: =IF('Strona 1'!$Q$67="","",'Strona 1'!$Q$67)
E68: Established in | H68: on
E69: =IF('Strona 1'!E69="","",'Strona 1'!E69) | H69: =IF('Strona 1'!H69="","",'Strona 1'!H69) | L69: =IF('Strona 1'!$L$69="","",'Strona 1'!$L$69)
D70: 22 | I70: 23 | O70: 24 | P70: Przesyłkę otrzymano
P71: Goods received
P72: Miejscowość | S72: dnia
P73: Place | S73: on
E75: Podpis i stempel nadawcy | J75: Podpis i stempel przewoźnika | P75: Podpis i stempel odbiorcy
E76: Signeture and stamp of the sender | J76: Signature and stamp of the carrier | P76: Signature and stamp of the consignee
D77: Wzór CMR/IRU/Polska z 1976 dla międzynarodowych przewozów drogowych odpowiada ustaleniom, które zostały dokonane przez Międzynarodową Unię Transportu Drogowego/IRU/.
